BEGIN:VCALENDAR
VERSION:2.0
PRODID:-//Luna House &amp; Cowork - ECPv6.11.2.1//NONSGML v1.0//EN
CALSCALE:GREGORIAN
METHOD:PUBLISH
X-ORIGINAL-URL:https://lunahousehub.com
X-WR-CALDESC:Events for Luna House &amp; Cowork
REFRESH-INTERVAL;VALUE=DURATION:PT1H
X-Robots-Tag:noindex
X-PUBLISHED-TTL:PT1H
BEGIN:VTIMEZONE
TZID:Europe/Lisbon
BEGIN:DAYLIGHT
TZOFFSETFROM:+0000
TZOFFSETTO:+0100
TZNAME:WEST
DTSTART:20220327T010000
END:DAYLIGHT
BEGIN:STANDARD
TZOFFSETFROM:+0100
TZOFFSETTO:+0000
TZNAME:WET
DTSTART:20221030T010000
END:STANDARD
END:VTIMEZONE
BEGIN:VEVENT
DTSTART;TZID=Europe/Lisbon:20221210T190000
DTEND;TZID=Europe/Lisbon:20221210T210000
DTSTAMP:20260422T062354
CREATED:20221112T152449Z
LAST-MODIFIED:20221207T083243Z
UID:4120-1670698800-1670706000@lunahousehub.com
SUMMARY:Community Dinner at Luna House!
DESCRIPTION:Dear Luna friends\, \nWe are here to invite you to join us for our Community Dinner on Dec 10th at 7pm. \nThe main purpose of Community Dinner is to create a more trustful and open atmosphere between our team and our coworkers. We want you to feel you can easily find new friends here\, not only get a service. We are sure that this tradition will become a great occasion to replace the word “membership” with the word “friendship”. \nUsually\, we are so concentrated on our work that we only have time to say: “Hi\, how are you?” in the morning. But\, it’s always a pleasure to grab a cup of coffee and have small talk with nice people around during the day. At these dinners\, we will be talking to each other with no rush and no time limitations because of work. We are happy to create a homey vibe and cozy atmosphere so all of us could feel relaxed and welcomed as if we were old friends. \nThe dinner is free for our coworkers. \nFor those who want to join in the future and feel Luna Vibe\, the price is 10 euros.
URL:https://lunahousehub.com/event/community-dinner-christmas-edition/
CATEGORIES:Dinner
ATTACH;FMTTYPE=image/jpeg:https://lunahousehub.com/wp-content/uploads/2022/11/DinnerCommunity.jpg
END:VEVENT
BEGIN:VEVENT
DTSTART;TZID=Europe/Lisbon:20221224T190000
DTEND;TZID=Europe/Lisbon:20221224T210000
DTSTAMP:20260422T062354
CREATED:20221113T151043Z
LAST-MODIFIED:20221209T205532Z
UID:4127-1671908400-1671915600@lunahousehub.com
SUMMARY:Christmas Community Dinner
DESCRIPTION:It’s that time of the year… our very first edition of Christmas at Luna House! \nIt’s time to celebrate life\, be grateful for all lessons\, and enjoy the beautiful blessings granted so far! \nGetting together with amazing people is an honor\, and we are here\, opening our doors to commemorate together in great style. \nVenue: Luna House – Lounge Area\nDate: 24 of December\, 2022\nTime: 7-9PM\nTicket:\nCoworkers and B&B guests: *Free\nInvited community: *10€ \n*All guests should bring drinks. \n*An optional dish is welcome as well. \nLuna House invites you to spend this magical night with us!
URL:https://lunahousehub.com/event/christmas-community-dinner/
CATEGORIES:Dinner
ATTACH;FMTTYPE=image/jpeg:https://lunahousehub.com/wp-content/uploads/2022/11/ChristmasComunityDinner.jpg
END:VEVENT
END:VCALENDAR