BEGIN:VCALENDAR
VERSION:2.0
PRODID:-//Luna House &amp; Cowork - ECPv6.11.2.1//NONSGML v1.0//EN
CALSCALE:GREGORIAN
METHOD:PUBLISH
X-ORIGINAL-URL:https://lunahousehub.com
X-WR-CALDESC:Events for Luna House &amp; Cowork
REFRESH-INTERVAL;VALUE=DURATION:PT1H
X-Robots-Tag:noindex
X-PUBLISHED-TTL:PT1H
BEGIN:VTIMEZONE
TZID:Europe/Lisbon
BEGIN:DAYLIGHT
TZOFFSETFROM:+0000
TZOFFSETTO:+0100
TZNAME:WEST
DTSTART:20220327T010000
END:DAYLIGHT
BEGIN:STANDARD
TZOFFSETFROM:+0100
TZOFFSETTO:+0000
TZNAME:WET
DTSTART:20221030T010000
END:STANDARD
BEGIN:DAYLIGHT
TZOFFSETFROM:+0000
TZOFFSETTO:+0100
TZNAME:WEST
DTSTART:20230326T010000
END:DAYLIGHT
BEGIN:STANDARD
TZOFFSETFROM:+0100
TZOFFSETTO:+0000
TZNAME:WET
DTSTART:20231029T010000
END:STANDARD
BEGIN:DAYLIGHT
TZOFFSETFROM:+0000
TZOFFSETTO:+0100
TZNAME:WEST
DTSTART:20240331T010000
END:DAYLIGHT
BEGIN:STANDARD
TZOFFSETFROM:+0100
TZOFFSETTO:+0000
TZNAME:WET
DTSTART:20241027T010000
END:STANDARD
END:VTIMEZONE
BEGIN:VEVENT
DTSTART;TZID=Europe/Lisbon:20240613T190000
DTEND;TZID=Europe/Lisbon:20240613T203000
DTSTAMP:20260420T222440
CREATED:20240607T091900Z
LAST-MODIFIED:20240607T091900Z
UID:7652-1718305200-1718310600@lunahousehub.com
SUMMARY:Open Mic 🎤 at Luna House & Cowork\, Cascais #2
DESCRIPTION:Open Mic at Luna House & Cowork\n⋆⭒˚｡⋆🎤 Join us on Thursday the 13th of June here at Luna House & Cowork and bring your passion with you! The mic is open for anyone who wants to share their art and talent with us! Poetry\, comedy\, music\, all are welcome! Entry is free!  \nThe event will start at 19h00! We have a guitar if you wish to play but you may also bring your instrument!   ⋆⭒˚｡⋆ \nThe rules 🏆:\n– First come first served! 😊 \n🎤 ⋆⭒˚｡⋆ \n 
URL:https://lunahousehub.com/event/open-mic-at-luna-house-cowork-cascais-2/
LOCATION:Luna House\, Av Costa Pinto 560\, Cascais\, 2750-329\, Portugal
CATEGORIES:Activities,Entertainment
ATTACH;FMTTYPE=image/jpeg:https://lunahousehub.com/wp-content/uploads/2024/05/neon-sign-1.jpg
END:VEVENT
BEGIN:VEVENT
DTSTART;TZID=Europe/Lisbon:20240516T193000
DTEND;TZID=Europe/Lisbon:20240516T203000
DTSTAMP:20260420T222440
CREATED:20240509T092612Z
LAST-MODIFIED:20240509T121433Z
UID:7554-1715887800-1715891400@lunahousehub.com
SUMMARY:Open Mic 🎤 at Luna House & Cowork\, Cascais
DESCRIPTION:Open Mic at Luna House & Cowork\n⋆⭒˚｡⋆🎤 Join us on Thursday the 16th of May here at Luna House & Cowork and bring your passion with you! The mic is open for anyone who wants to share their art and talent with us! Poetry\, comedy\, music\, all are welcome! Entry is free!  \nThe event will start at 19h30! We also have a guitar if you wish to play but you may also bring your instrument!   ⋆⭒˚｡⋆ \nThe rules 🏆:\n– First come first served! 😊 \n🎤 ⋆⭒˚｡⋆ \n 
URL:https://lunahousehub.com/event/open-mic-at-luna-house-cowork-cascais/
LOCATION:Luna House\, Av Costa Pinto 560\, Cascais\, 2750-329\, Portugal
CATEGORIES:Activities,Entertainment
ATTACH;FMTTYPE=image/jpeg:https://lunahousehub.com/wp-content/uploads/2024/05/neon-sign-1.jpg
ORGANIZER;CN="Luna House":MAILTO:lunahousecascais@gmail.com
END:VEVENT
BEGIN:VEVENT
DTSTART;TZID=Europe/Lisbon:20230709T103000
DTEND;TZID=Europe/Lisbon:20230709T143000
DTSTAMP:20260420T222440
CREATED:20230623T175705Z
LAST-MODIFIED:20230701T171725Z
UID:5831-1688898600-1688913000@lunahousehub.com
SUMMARY:Luna Walking - Barragem do Rio da Mula
DESCRIPTION:Join us for a morning walk in Sintra on July 9th at 9:15 AM starting from Barragem do Rio da Mula.\nThis time we invite you to explore Barragem do Rio da Mula\, Pedra Amarela and Peninha.\nOur co-founder Lena\, loves discovering new places and routes to the most stunning places around the area. Join her on her journey on Sunday 2nd at 9.15 am. Meet UP -Barragem do Rio da Mula. The duration is about 4 hours in total\, level is moderate-difficult. *not suitable for kids \nThis event is open to everyone\, but due to the limited number of spots available\, we ask that you RSVP to secure your place. \nPlease wear comfortable shoes and bring a water bottle to stay hydrated. We look forward to seeing you for a wonderful morning walk. \n*This is a donation based event.
URL:https://lunahousehub.com/event/luna-walking-2/
LOCATION:Barragem da Mula\, Alcabideche\, Cascais\, Portugal
CATEGORIES:Activities,Entertainment,healthy activities
ATTACH;FMTTYPE=image/jpeg:https://lunahousehub.com/wp-content/uploads/2023/03/Luna_Walking.jpg
ORGANIZER;CN="Luna House":MAILTO:lunahousecascais@gmail.com
END:VEVENT
BEGIN:VEVENT
DTSTART;TZID=Europe/Lisbon:20230604T110000
DTEND;TZID=Europe/Lisbon:20230604T140000
DTSTAMP:20260420T222440
CREATED:20230501T143753Z
LAST-MODIFIED:20230529T153421Z
UID:5383-1685876400-1685887200@lunahousehub.com
SUMMARY:Luna Walking
DESCRIPTION:Join us for a morning walk in Sintra on June 4th at 10:0 AM starting from R.Mal.Saldanha 23\, 2710-631\, Sintra.\nThis time we invite you to explore another side of the Charming Old Sintra.  Let’s explore the hidden gems of Sintra Town.\nOur co-founder Lena\, loves discovering new places and routes to the most stunning places around the area. Join her on her journey on Sunday 4th at 10 am. Meet UP – at Fonte da Sabuga. The duration is about 4 hours in total.\nBe ready to stay after for lunch at one of the chosen cafes. \nThis event is open to everyone\, but due to the limited number of spots available\, we ask that you RSVP to secure your place. \nPlease wear comfortable shoes and bring a water bottle to stay hydrated. We look forward to seeing you for a wonderful morning walk. \n*This is a donation based event.
URL:https://lunahousehub.com/event/luna-hike-april-22-2/
LOCATION:R.Mal.Saldanha 23\, 2710-631\, Sintra\, R.Mal.Saldanha 23\, Sintra\, 2710-631\, Portugal
CATEGORIES:Activities,Entertainment,healthy activities
ATTACH;FMTTYPE=image/jpeg:https://lunahousehub.com/wp-content/uploads/2023/03/Luna_Walking.jpg
ORGANIZER;CN="Luna House":MAILTO:lunahousecascais@gmail.com
END:VEVENT
BEGIN:VEVENT
DTSTART;TZID=Europe/Lisbon:20230428T200000
DTEND;TZID=Europe/Lisbon:20230428T220000
DTSTAMP:20260420T222440
CREATED:20230326T091337Z
LAST-MODIFIED:20230422T142417Z
UID:5095-1682712000-1682719200@lunahousehub.com
SUMMARY:Community Dinner with a touch of ART!
DESCRIPTION:Dear Luna friends\,\nReady for a creative and fun night out? Join us for a vegetarian cocktail-party artistic session featuring magazine collage* on April 28th at 7 PM.\nOur multi-talented friend\, Yasmine\, will animate the evening as we gather around good food\, good people\, and great art. \nNo need to bring magazines\, but please bring scissors\, glue\, and paper. This isn’t a workshop\, so we’ll have the freedom to play and create whatever we like. \n7 PM: Welcome\, meet\, and eat\n7:30 PM: Let’s start creating and chatting\n8:30 PM: Dessert\, crafting\, and chatting\n9:00 PM: Share our artwork and chat about the experience. \nYasmine: “The goal behind this event is to express ourselves through art and meet like-minded people”. \nLooking forward to meeting you! \n*Magazine collage is a fun and imaginative form of artistic expression that involves mixing elements and images from used magazines \nTicket: 15€*\n*Traditional infused water will be served cold\, still\, you can bring your drinks.\nKombucha (€3.50)\, Wine (€5.00) and Beer (€2.00) are available for purchase.
URL:https://lunahousehub.com/event/community-dinner-at-luna-house-with-a-touch-of-art/
LOCATION:Luna House\, Av Costa Pinto 560\, Cascais\, 2750-329\, Portugal
CATEGORIES:Dinner,Entertainment,healthy activities,Networking
ATTACH;FMTTYPE=image/jpeg:https://lunahousehub.com/wp-content/uploads/2023/02/CommunityDinnerJasmine.jpg
END:VEVENT
BEGIN:VEVENT
DTSTART;TZID=Europe/Lisbon:20230422T103000
DTEND;TZID=Europe/Lisbon:20230422T133000
DTSTAMP:20260420T222440
CREATED:20230326T102545Z
LAST-MODIFIED:20230418T085851Z
UID:5109-1682159400-1682170200@lunahousehub.com
SUMMARY:Luna Walking
DESCRIPTION:Join us for a morning walk on April 22nd at 9:30 AM starting from Luna House in Cascais.\nThis is a great opportunity to explore the local area while enjoying some fresh air and exercise. \nThe walk will take approximately 3 hours and will be at a leisurely pace\, suitable for all fitness levels. We’ll follow a scenic route that will take us through some of Cascais’ most beautiful neighborhoods and natural areas. \nThis event is open to everyone\, but due to the limited number of spots available\, we ask that you RSVP to secure your place. Whether you’re a local resident or a visitor to the area\, we welcome you to come along and enjoy the beautiful surroundings. \nPlease wear comfortable shoes and bring a water bottle to stay hydrated. We look forward to seeing you at Luna House on April 22nd at 9:30 AM for a wonderful morning walk. \n  \n*This is a donation based event.
URL:https://lunahousehub.com/event/luna-hike-april-22/
LOCATION:Luna House\, Av Costa Pinto 560\, Cascais\, 2750-329\, Portugal
CATEGORIES:Activities,Entertainment,healthy activities
ATTACH;FMTTYPE=image/jpeg:https://lunahousehub.com/wp-content/uploads/2023/03/Luna_Walking.jpg
ORGANIZER;CN="Luna House":MAILTO:lunahousecascais@gmail.com
END:VEVENT
BEGIN:VEVENT
DTSTART;TZID=Europe/Lisbon:20221128T180000
DTEND;TZID=Europe/Lisbon:20221128T190000
DTSTAMP:20260420T222440
CREATED:20221027T204541Z
LAST-MODIFIED:20221120T220510Z
UID:3998-1669658400-1669662000@lunahousehub.com
SUMMARY:Evening Yoga
DESCRIPTION:We are excited to share with you our Yoga evening practice on Monday\, and Wednesday at 6PM! \nEach class will cost 10 EUR per person. \nOur Cowork members will have yoga and events already included!
URL:https://lunahousehub.com/event/evening-yoga-41/
LOCATION:Luna House\, Av Costa Pinto 560\, Cascais\, 2750-329\, Portugal
CATEGORIES:Entertainment
ATTACH;FMTTYPE=image/png:https://lunahousehub.com/wp-content/uploads/2022/05/image_2022-05-05_13-56-12-1-e1668790217749.png
ORGANIZER;CN="Luna House":MAILTO:lunahousecascais@gmail.com
END:VEVENT
BEGIN:VEVENT
DTSTART;TZID=Europe/Lisbon:20221124T190000
DTEND;TZID=Europe/Lisbon:20221124T210000
DTSTAMP:20260420T222440
CREATED:20221120T135643Z
LAST-MODIFIED:20221120T164935Z
UID:4250-1669316400-1669323600@lunahousehub.com
SUMMARY:Thanksgiving Dinner
DESCRIPTION:Dear partners and friends\, \n  \nThe year of 2022 is coming to an end. \nThis was the year we opened our doors and heart and we are deeply grateful for all the joyful moments we witnessed. \nThanksgiving is the time to be surrounded with good food\, good friends and be grateful. \nWe would love to invite you all to join us for dinner on Thursday\, November 24th at 7 PM.  \n  \nWarmest regards\, \nLuna House & Cowork
URL:https://lunahousehub.com/event/thanksgiving-dinner/
LOCATION:Luna House\, Av Costa Pinto 560\, Cascais\, 2750-329\, Portugal
CATEGORIES:Dinner,Entertainment
ATTACH;FMTTYPE=image/jpeg:https://lunahousehub.com/wp-content/uploads/2022/11/ThankggivingDinner.jpg
ORGANIZER;CN="Luna House":MAILTO:lunahousecascais@gmail.com
END:VEVENT
END:VCALENDAR