BEGIN:VCALENDAR
VERSION:2.0
PRODID:-//Luna House &amp; Cowork - ECPv6.11.2.1//NONSGML v1.0//EN
CALSCALE:GREGORIAN
METHOD:PUBLISH
X-WR-CALNAME:Luna House &amp; Cowork
X-ORIGINAL-URL:https://lunahousehub.com
X-WR-CALDESC:Events for Luna House &amp; Cowork
REFRESH-INTERVAL;VALUE=DURATION:PT1H
X-Robots-Tag:noindex
X-PUBLISHED-TTL:PT1H
BEGIN:VTIMEZONE
TZID:Europe/Lisbon
BEGIN:DAYLIGHT
TZOFFSETFROM:+0000
TZOFFSETTO:+0100
TZNAME:WEST
DTSTART:20220327T010000
END:DAYLIGHT
BEGIN:STANDARD
TZOFFSETFROM:+0100
TZOFFSETTO:+0000
TZNAME:WET
DTSTART:20221030T010000
END:STANDARD
BEGIN:DAYLIGHT
TZOFFSETFROM:+0000
TZOFFSETTO:+0100
TZNAME:WEST
DTSTART:20230326T010000
END:DAYLIGHT
BEGIN:STANDARD
TZOFFSETFROM:+0100
TZOFFSETTO:+0000
TZNAME:WET
DTSTART:20231029T010000
END:STANDARD
END:VTIMEZONE
BEGIN:VEVENT
DTSTART;TZID=Europe/Lisbon:20230313T180000
DTEND;TZID=Europe/Lisbon:20230313T193000
DTSTAMP:20260421T175550
CREATED:20230226T102932Z
LAST-MODIFIED:20230226T102932Z
UID:4970-1678730400-1678735800@lunahousehub.com
SUMMARY:Evening Yoga
DESCRIPTION:Evening Yoga at Luna House\n  \nWe invite you to join our Yoga Vinyasa practice in the evenings on Monday and Wednesday at 6 PM! \nEach class will cost 15 EUR per person. \n* Find our reception and ask about the advantages of becoming a subscriber!
URL:https://lunahousehub.com/event/evening-yoga-70/
LOCATION:Luna House\, Av Costa Pinto 560\, Cascais\, 2750-329\, Portugal
CATEGORIES:kundalini,Yoga practice
ATTACH;FMTTYPE=image/jpeg:https://lunahousehub.com/wp-content/uploads/2022/11/Yoga-1.jpg
ORGANIZER;CN="Luna House":MAILTO:lunahousecascais@gmail.com
END:VEVENT
BEGIN:VEVENT
DTSTART;TZID=Europe/Lisbon:20230308T180000
DTEND;TZID=Europe/Lisbon:20230308T193000
DTSTAMP:20260421T175550
CREATED:20230226T102748Z
LAST-MODIFIED:20230226T102748Z
UID:4966-1678298400-1678303800@lunahousehub.com
SUMMARY:Evening Yoga
DESCRIPTION:Evening Yoga at Luna House\n  \nWe invite you to join our Yoga Vinyasa practice in the evenings on Monday and Wednesday at 6 PM! \nEach class will cost 15 EUR per person. \n* Find our reception and ask about the advantages of becoming a subscriber!
URL:https://lunahousehub.com/event/evening-yoga-69/
LOCATION:Luna House\, Av Costa Pinto 560\, Cascais\, 2750-329\, Portugal
CATEGORIES:kundalini,Yoga practice
ATTACH;FMTTYPE=image/jpeg:https://lunahousehub.com/wp-content/uploads/2022/11/Yoga-1.jpg
ORGANIZER;CN="Luna House":MAILTO:lunahousecascais@gmail.com
END:VEVENT
BEGIN:VEVENT
DTSTART;TZID=Europe/Lisbon:20230306T180000
DTEND;TZID=Europe/Lisbon:20230306T193000
DTSTAMP:20260421T175550
CREATED:20230226T101709Z
LAST-MODIFIED:20230226T101709Z
UID:4960-1678125600-1678131000@lunahousehub.com
SUMMARY:Evening Yoga
DESCRIPTION:Evening Yoga at Luna House\n  \nWe invite you to join our Yoga Vinyasa practice in the evenings on Monday and Wednesday at 6 PM! \nEach class will cost 15 EUR per person. \n* Find our reception and ask about the advantages of becoming a subscriber!
URL:https://lunahousehub.com/event/evening-yoga-67/
LOCATION:Luna House\, Av Costa Pinto 560\, Cascais\, 2750-329\, Portugal
CATEGORIES:kundalini,Yoga practice
ATTACH;FMTTYPE=image/jpeg:https://lunahousehub.com/wp-content/uploads/2022/11/Yoga-1.jpg
ORGANIZER;CN="Luna House":MAILTO:lunahousecascais@gmail.com
END:VEVENT
BEGIN:VEVENT
DTSTART;TZID=Europe/Lisbon:20230301T180000
DTEND;TZID=Europe/Lisbon:20230301T193000
DTSTAMP:20260421T175550
CREATED:20230226T101401Z
LAST-MODIFIED:20230226T101401Z
UID:4957-1677693600-1677699000@lunahousehub.com
SUMMARY:Evening Yoga
DESCRIPTION:Evening Yoga at Luna House\n  \nWe invite you to join our Yoga Vinyasa practice in the evenings on Monday and Wednesday at 6 PM! \nEach class will cost 15 EUR per person. \n* Find our reception and ask about the advantages of becoming a subscriber!
URL:https://lunahousehub.com/event/evening-yoga-66/
LOCATION:Luna House\, Av Costa Pinto 560\, Cascais\, 2750-329\, Portugal
CATEGORIES:healthy activities,kundalini,Yoga practice
ATTACH;FMTTYPE=image/jpeg:https://lunahousehub.com/wp-content/uploads/2022/11/Yoga-1.jpg
ORGANIZER;CN="Luna House":MAILTO:lunahousecascais@gmail.com
END:VEVENT
BEGIN:VEVENT
DTSTART;TZID=Europe/Lisbon:20230216T180000
DTEND;TZID=Europe/Lisbon:20230216T200000
DTSTAMP:20260421T175550
CREATED:20230116T164326Z
LAST-MODIFIED:20230125T142538Z
UID:4681-1676570400-1676577600@lunahousehub.com
SUMMARY:KAP Class with Alina Buteica
DESCRIPTION:We are beyond glad to invite you to join KAP class at Luna House!\nKAP (Kundalini Activation Process) is a practice of surrender and activation of more of your life force energy\, your latent potential. It is a transmission of both raw kundalini energy and of non-dual (Oneness) states of consciousness. \nDate: February 16th\, between 6 pm – 8 pm \n>> GET TICKETS \nIt is completely safe\, you just lie down on a yoga mat and receive the transmission. Your body’s natural intelligence takes over and everybody has different experiences during the session\, depending on where in their life they need an uplift & upgrade. Some people experience huge breakthroughs and personal realizations in just one session of KAP\, others over a longer time period. \nBenefits of regular KAP sessions\, over time\, include the following: \n\nFeeling deeply rejuvenated\, renewed\, lighter and connected to the Universal life force pulsating through you\nMental clarity & lightness about important life decisions\nEmotional & mental breakthroughs\nHeightened creativity & insights received during each class\nRelease of energetic blocks (physical\, mental\, emotional)\nConnection to Oneness and tapping into the non-dual field\, the quantum field of all possibilities\nDeep rewiring and heart – brain coherence\, which allows you to be living your life more often from the state of Connectedness\nConscious & empowered choices in your life\, aligned with your Soul\nAwakened intuition & inspired insights into your personal growth & wellbeing\nIn love with life & with oneself\n\nLuna House & Alina Buteica look forward to welcoming you for this special KAP session!
URL:https://lunahousehub.com/event/kap-class-with-alina-buteica-6/
LOCATION:Luna House\, Av Costa Pinto 560\, Cascais\, 2750-329\, Portugal
CATEGORIES:kundalini
ATTACH;FMTTYPE=image/jpeg:https://lunahousehub.com/wp-content/uploads/2022/10/KAP.jpg
ORGANIZER;CN="Luna House":MAILTO:lunahousecascais@gmail.com
END:VEVENT
BEGIN:VEVENT
DTSTART;TZID=Europe/Lisbon:20221222T180000
DTEND;TZID=Europe/Lisbon:20221222T200000
DTSTAMP:20260421T175550
CREATED:20221209T203738Z
LAST-MODIFIED:20221218T092543Z
UID:4458-1671732000-1671739200@lunahousehub.com
SUMMARY:KAP Class with Alina Buteica *Christmas Edition!
DESCRIPTION:We are beyond glad to invite you to join KAP class at Luna House\, in Cascais. \nDate: December 22nd\, between 6 pm – 8 pm. \n>>GET TICKETS \nKAP (Kundalini Activation Process) is a practice of surrender and activation of more of your life force energy\, your latent potential. It is a transmission of both raw kundalini energy and of non-dual (Oneness) states of consciousness. \nIt is completely safe\, you just lie down on a yoga mat and receive the transmission. Your body’s natural intelligence takes over and everybody has different experiences during the session\, depending on where in their life they need an uplift & upgrade. Some people experience huge breakthroughs and personal realizations in just one session of KAP\, others over a longer time period. \nBenefits of regular KAP sessions\, over time\, include the following: \n\nFeeling deeply rejuvenated\, renewed\, lighter and connected to the Universal life force pulsating through you\nMental clarity & lightness about important life decisions\nEmotional & mental breakthroughs\nHeightened creativity & insights received during each class\nRelease of energetic blocks (physical\, mental\, emotional)\nConnection to Oneness and tapping into the non-dual field\, the quantum field of all possibilities\nDeep rewiring and heart – brain coherence\, which allows you to be living your life more often from the state of Connectedness\nConscious & empowered choices in your life\, aligned with your Soul\nAwakened intuition & inspired insights into your personal growth & wellbeing\nIn love with life & with oneself\n\nLuna House & Alina Buteica look forward to welcoming you for this special KAP session!
URL:https://lunahousehub.com/event/kap-class-with-alina-buteica-christmas-edition/
LOCATION:Luna House\, Av Costa Pinto 560\, Cascais\, 2750-329\, Portugal
CATEGORIES:kundalini,Spiritual practice
ATTACH;FMTTYPE=image/jpeg:https://lunahousehub.com/wp-content/uploads/2022/10/KAP.jpg
END:VEVENT
BEGIN:VEVENT
DTSTART;TZID=Europe/Lisbon:20221215T180000
DTEND;TZID=Europe/Lisbon:20221215T200000
DTSTAMP:20260421T175550
CREATED:20221113T165641Z
LAST-MODIFIED:20221212T190032Z
UID:4154-1671127200-1671134400@lunahousehub.com
SUMMARY:KAP Class with Alina Buteica
DESCRIPTION:We are beyond glad to invite you to join KAP class at Luna House\, in Cascais. \nDate: December 15th\, between 6 pm – 8 pm \n>> GET TICKETS \nKAP (Kundalini Activation Process) is a practice of surrender and activation of more of your life force energy\, your latent potential. It is a transmission of both raw kundalini energy and of non-dual (Oneness) states of consciousness. \nIt is completely safe\, you just lie down on a yoga mat and receive the transmission. Your body’s natural intelligence takes over and everybody has different experiences during the session\, depending on where in their life they need an uplift & upgrade. Some people experience huge breakthroughs and personal realizations in just one session of KAP\, others over a longer time period. \nBenefits of regular KAP sessions\, over time\, include the following: \n\nFeeling deeply rejuvenated\, renewed\, lighter and connected to the Universal life force pulsating through you\nMental clarity & lightness about important life decisions\nEmotional & mental breakthroughs\nHeightened creativity & insights received during each class\nRelease of energetic blocks (physical\, mental\, emotional)\nConnection to Oneness and tapping into the non-dual field\, the quantum field of all possibilities\nDeep rewiring and heart – brain coherence\, which allows you to be living your life more often from the state of Connectedness\nConscious & empowered choices in your life\, aligned with your Soul\nAwakened intuition & inspired insights into your personal growth & wellbeing\nIn love with life & with oneself\n\nLuna House & Alina Buteica look forward to welcoming you for this special KAP session!
URL:https://lunahousehub.com/event/kap-class-with-alina-buteica-4/
LOCATION:Luna House\, Av Costa Pinto 560\, Cascais\, 2750-329\, Portugal
CATEGORIES:Activities,healthy activities,kundalini,Spiritual practice
ATTACH;FMTTYPE=image/jpeg:https://lunahousehub.com/wp-content/uploads/2022/10/KAP.jpg
END:VEVENT
BEGIN:VEVENT
DTSTART;TZID=Europe/Lisbon:20221129T110000
DTEND;TZID=Europe/Lisbon:20221129T130000
DTSTAMP:20260421T175550
CREATED:20221109T143207Z
LAST-MODIFIED:20221119T124632Z
UID:4107-1669719600-1669726800@lunahousehub.com
SUMMARY:KAP Class with Alina Buteica
DESCRIPTION:We are beyond glad to invite you to join KAP class at Luna House\, in Cascais. \nDate: November 29th\, between 11 am – 1 pm \nto get your ticket click here \n Ticket: 60 Euros \nKAP (Kundalini Activation Process) is a practice of surrender and activation of more of your life force energy\, your latent potential. It is a transmission of both raw kundalini energy and of non-dual (Oneness) states of consciousness. \nIt is completely safe\, you just lie down on a yoga mat and receive the transmission. Your body’s natural intelligence takes over and everybody has different experiences during the session\, depending on where in their life they need an uplift & upgrade. Some people experience huge breakthroughs and personal realizations in just one session of KAP\, others over a longer time period. \nBenefits of regular KAP sessions\, over time\, include the following: \n\nFeeling deeply rejuvenated\, renewed\, lighter and connected to the Universal life force pulsating through you\nMental clarity & lightness about important life decisions\nEmotional & mental breakthroughs\nHeightened creativity & insights received during each class\nRelease of energetic blocks (physical\, mental\, emotional)\nConnection to Oneness and tapping into the non-dual field\, the quantum field of all possibilities\nDeep rewiring and heart – brain coherence\, which allows you to be living your life more often from the state of Connectedness\nConscious & empowered choices in your life\, aligned with your Soul\nAwakened intuition & inspired insights into your personal growth & wellbeing\nIn love with life & with oneself\n\n  \n 
URL:https://lunahousehub.com/event/kap-class-with-alina-buteica-3/
LOCATION:Luna House\, Av Costa Pinto 560\, Cascais\, 2750-329\, Portugal
CATEGORIES:kundalini
ATTACH;FMTTYPE=image/jpeg:https://lunahousehub.com/wp-content/uploads/2022/10/KAP.jpg
END:VEVENT
BEGIN:VEVENT
DTSTART;TZID=Europe/Lisbon:20221108T110000
DTEND;TZID=Europe/Lisbon:20221108T130000
DTSTAMP:20260421T175550
CREATED:20221030T090353Z
LAST-MODIFIED:20221030T090444Z
UID:4066-1667905200-1667912400@lunahousehub.com
SUMMARY:KAP Class with Alina Buteica
DESCRIPTION:You are most welcome to join my KAP class in Luna House\, in Cascais. \nDate: November 8th\, between 11 am – 1 pm \nto get your ticket click here \n Ticket: 65 Euros \nKAP (Kundalini Activation Process) is a practice of surrender and activation of more of your life force energy\, your latent potential. It is a transmission of both raw kundalini energy and of non-dual (Oneness) states of consciousness. \nIt is completely safe\, you just lie down on a yoga mat and receive the transmission. Your body’s natural intelligence takes over and everybody has different experiences during the session\, depending on where in their life they need an uplift & upgrade. Some people experience huge breakthroughs and personal realizations in just one session of KAP\, others over a longer time period. \nBenefits of regular KAP sessions\, over time\, include the following: \n\nFeeling deeply rejuvenated\, renewed\, lighter and connected to the Universal life force pulsating through you\nMental clarity & lightness about important life decisions\nEmotional & mental breakthroughs\nHeightened creativity & insights received during each class\nRelease of energetic blocks (physical\, mental\, emotional)\nConnection to Oneness and tapping into the non-dual field\, the quantum field of all possibilities\nDeep rewiring and heart – brain coherence\, which allows you to be living your life more often from the state of Connectedness\nConscious & empowered choices in your life\, aligned with your Soul\nAwakened intuition & inspired insights into your personal growth & wellbeing\nIn love with life & with oneself
URL:https://lunahousehub.com/event/kap-class-with-alina-buteica-2/
LOCATION:Luna House\, Av Costa Pinto 560\, Cascais\, 2750-329\, Portugal
CATEGORIES:kundalini,Networking
ATTACH;FMTTYPE=image/jpeg:https://lunahousehub.com/wp-content/uploads/2022/10/KAP.jpg
END:VEVENT
BEGIN:VEVENT
DTSTART;TZID=Europe/Lisbon:20221020T193000
DTEND;TZID=Europe/Lisbon:20221020T213000
DTSTAMP:20260421T175550
CREATED:20221014T160950Z
LAST-MODIFIED:20221017T173054Z
UID:3664-1666294200-1666301400@lunahousehub.com
SUMMARY:KAP Class with Alina Buteica
DESCRIPTION:You are most welcome to join my KAP class in Luna House\, in Cascais. \nDate: October 20th\, between 6:30 pm – 8:30 pm \nto get your ticket click here \n Ticket: 60 Euros \nKAP (Kundalini Activation Process) is a practice of surrender and activation of more of your life force energy\, your latent potential. It is a transmission of both raw kundalini energy and of non-dual (Oneness) states of consciousness. \nIt is completely safe\, you just lie down on a yoga mat and receive the transmission. Your body’s natural intelligence takes over and everybody has different experiences during the session\, depending on where in their life they need an uplift & upgrade. Some people experience huge breakthroughs and personal realizations in just one session of KAP\, others over a longer time period. \nBenefits of regular KAP sessions\, over time\, include the following: \n\nFeeling deeply rejuvenated\, renewed\, lighter and connected to the Universal life force pulsating through you\nMental clarity & lightness about important life decisions\nEmotional & mental breakthroughs\nHeightened creativity & insights received during each class\nRelease of energetic blocks (physical\, mental\, emotional)\nConnection to Oneness and tapping into the non-dual field\, the quantum field of all possibilities\nDeep rewiring and heart – brain coherence\, which allows you to be living your life more often from the state of Connectedness\nConscious & empowered choices in your life\, aligned with your Soul\nAwakened intuition & inspired insights into your personal growth & wellbeing\nIn love with life & with oneself
URL:https://lunahousehub.com/event/kap-class-with-alina-buteica/
CATEGORIES:kundalini,Networking
ATTACH;FMTTYPE=image/jpeg:https://lunahousehub.com/wp-content/uploads/2022/10/KAP.jpg
END:VEVENT
END:VCALENDAR