BEGIN:VCALENDAR
VERSION:2.0
PRODID:-//Luna House &amp; Cowork - ECPv6.11.2.1//NONSGML v1.0//EN
CALSCALE:GREGORIAN
METHOD:PUBLISH
X-WR-CALNAME:Luna House &amp; Cowork
X-ORIGINAL-URL:https://lunahousehub.com
X-WR-CALDESC:Events for Luna House &amp; Cowork
REFRESH-INTERVAL;VALUE=DURATION:PT1H
X-Robots-Tag:noindex
X-PUBLISHED-TTL:PT1H
BEGIN:VTIMEZONE
TZID:Europe/Lisbon
BEGIN:DAYLIGHT
TZOFFSETFROM:+0000
TZOFFSETTO:+0100
TZNAME:WEST
DTSTART:20240331T010000
END:DAYLIGHT
BEGIN:STANDARD
TZOFFSETFROM:+0100
TZOFFSETTO:+0000
TZNAME:WET
DTSTART:20241027T010000
END:STANDARD
END:VTIMEZONE
BEGIN:VEVENT
DTSTART;TZID=Europe/Lisbon:20240613T190000
DTEND;TZID=Europe/Lisbon:20240613T203000
DTSTAMP:20260424T113148
CREATED:20240607T091900Z
LAST-MODIFIED:20240607T091900Z
UID:7652-1718305200-1718310600@lunahousehub.com
SUMMARY:Open Mic 🎤 at Luna House & Cowork\, Cascais #2
DESCRIPTION:Open Mic at Luna House & Cowork\n⋆⭒˚｡⋆🎤 Join us on Thursday the 13th of June here at Luna House & Cowork and bring your passion with you! The mic is open for anyone who wants to share their art and talent with us! Poetry\, comedy\, music\, all are welcome! Entry is free!  \nThe event will start at 19h00! We have a guitar if you wish to play but you may also bring your instrument!   ⋆⭒˚｡⋆ \nThe rules 🏆:\n– First come first served! 😊 \n🎤 ⋆⭒˚｡⋆ \n 
URL:https://lunahousehub.com/event/open-mic-at-luna-house-cowork-cascais-2/
LOCATION:Luna House\, Av Costa Pinto 560\, Cascais\, 2750-329\, Portugal
CATEGORIES:Activities,Entertainment
ATTACH;FMTTYPE=image/jpeg:https://lunahousehub.com/wp-content/uploads/2024/05/neon-sign-1.jpg
END:VEVENT
END:VCALENDAR